BEGIN:VCALENDAR
PRODID:-//kirchenweb.ch gmbh//veranstaltungsausgabe v2.0//DE
VERSION:2.0
METHOD:PUBLISH
BEGIN:VEVENT
DTSTART:20270904T180000Z
DTEND:20270904T193000Z
LOCATION:Ref. Kirche Wollerau in Wilen\, Kirchweg\, 8832 Wilen
TRANSP:OPAQUE
SEQUENCE:0
UID:13950-veranstaltung@refkirchehoefe.ch
DTSTAMP:20260219T083918Z
DESCRIPTION:Im Sommer veranstalten wir vier Konzerte in unserer Kirche mit
  Kammermusik und einem Chorprogramm. Ein Highlight ist der anschliessende
  Apéro vor der Kirche mit Sicht auf den abendlichen Zürichsee.\n\n
 \nKontakt: Alexander Seidel\n\nWeitere Infos:
  https://www.refkirchehoefe.ch/veranstaltung/13950
SUMMARY:SommerMusikWollerau II
PRIORITY:5
X-MICROSOFT-CDO-IMPORTANCE:1
CLASS:PUBLIC
END:VEVENT
END:VCALENDAR
