BEGIN:VCALENDAR
PRODID:-//kirchenweb.ch gmbh//veranstaltungsausgabe v2.0//DE
VERSION:2.0
METHOD:PUBLISH
BEGIN:VEVENT
DTSTART:20260530T080000Z
DTEND:20260530T090000Z
LOCATION:Ref. Kirche Wollerau in Wilen\, Kirchweg\, 8832 Wilen
TRANSP:OPAQUE
SEQUENCE:0
UID:13966-veranstaltung@refkirchehoefe.ch
DTSTAMP:20260410T115522Z
DESCRIPTION:Was braucht Mut? Wie lernen wir mutig zu sein? Ida\, das
  kleine Eichhörnchen\, hat auch kein Mut\, nicht so wie ihre Geschwister
  die schon fleissig in den Bäumen umher klettern. Wie Ida den eigenen Mut
  findet\, hört ihr in der Geschichte "Trau dich\, Ida" Ein mutiges
  Erlebnis mit der Kirchenmaus für Kinder ab 3 Jahren bis und mit
  Kindergartenalter\, gemeinsam mit Eltern oder Grosseltern. Wir beten\,
  singen\, erhalten ein „Bhaltis“  für nach Hause\, das uns Zeigt\,
  wie mutig wir sind. Im Anschluss zur Feier sind alle zu einem Imbiss in
  der Unterkirche eingeladen.\n\nKontakt: Monika Fässler\n\nWeitere Infos:
  https://www.refkirchehoefe.ch/veranstaltung/13966
SUMMARY:Fiire mit de Chliine
PRIORITY:5
X-MICROSOFT-CDO-IMPORTANCE:1
CLASS:PUBLIC
END:VEVENT
END:VCALENDAR
