BEGIN:VCALENDAR
PRODID:-//kirchenweb.ch gmbh//veranstaltungsausgabe v2.0//DE
VERSION:2.0
METHOD:PUBLISH
BEGIN:VEVENT
DTSTART:20261024T080000Z
DTEND:20261024T090000Z
LOCATION:Ref. Kirche Wollerau in Wilen\, Kirchweg\, 8832 Wilen
TRANSP:OPAQUE
SEQUENCE:0
UID:13968-veranstaltung@refkirchehoefe.ch
DTSTAMP:20260324T131703Z
DESCRIPTION:Ein feierliches Erleben mit der Kirchenmaus für Kinder ab 3
  Jahren bis und mit Kindergartenalter\, gemeinsam mit Eltern oder
  Grosseltern. Wir hören Geschichten\, staunen\, beten\, singen und tragen
  das Erlebte mit einem „Bhaltis“ nach Hause. Im Anschluss zur Feier
  sind alle zu einem Imbiss in der Unterkirche eingeladen.\n\nKontakt:
  Monika Fässler\n\nWeitere Infos:
  https://www.refkirchehoefe.ch/veranstaltung/13968
SUMMARY:Fiire mit de Chliine - Erntedank
PRIORITY:5
X-MICROSOFT-CDO-IMPORTANCE:1
CLASS:PUBLIC
END:VEVENT
END:VCALENDAR
