BEGIN:VCALENDAR
PRODID:-//kirchenweb.ch gmbh//veranstaltungsausgabe v2.0//DE
VERSION:2.0
METHOD:PUBLISH
BEGIN:VEVENT
DTSTART;VALUE=DATE:20260715
DTEND;VALUE=DATE:20260716
LOCATION:Ferienheim Gufelstock GL\, Gufelstock 32\, 8765 Engi
TRANSP:OPAQUE
SEQUENCE:0
UID:14024-veranstaltung@refkirchehoefe.ch
DTSTAMP:20260312T081300Z
DESCRIPTION:Eingeladen sind alle Schüler und Schülerinnen
  (konfessionsneutral)\, die im Sommer die 4.\, 5. oder 6. Klasse
  abgeschlossen haben. Ein abwechslungsreiches Lagerprogramm erwartet dich!
  \n\n\n\nKontakt: Karin Wälli\n\nWeitere Infos:
  https://www.refkirchehoefe.ch/veranstaltung/14024
SUMMARY:Sommerlager
PRIORITY:5
X-MICROSOFT-CDO-IMPORTANCE:1
CLASS:PUBLIC
END:VEVENT
END:VCALENDAR
