BEGIN:VCALENDAR
PRODID:-//kirchenweb.ch gmbh//veranstaltungsausgabe v2.0//DE
VERSION:2.0
METHOD:PUBLISH
BEGIN:VEVENT
DTSTART;VALUE=DATE:20260615
DTEND;VALUE=DATE:20260616
LOCATION:Ferienheim Gufelstock GL\, \,
TRANSP:OPAQUE
SEQUENCE:0
UID:14028-veranstaltung@refkirchehoefe.ch
DTSTAMP:20260312T081525Z
DESCRIPTION:Komm doch auch mit! Das Sommerlager XXXX\, unter dem Motto
  "XXXXXXXX" \, für 4.\, 5. und 6. Klasse\, hat noch Plätze frei. \n
 \nKontakt: Karin Wälli\n\nWeitere Infos:
  https://www.refkirchehoefe.ch/veranstaltung/14028
SUMMARY:HEUTE Anmeldeschluss - Sommerlager Gufelstock
PRIORITY:5
X-MICROSOFT-CDO-IMPORTANCE:1
CLASS:PUBLIC
END:VEVENT
END:VCALENDAR
