BEGIN:VCALENDAR
PRODID:-//kirchenweb.ch gmbh//veranstaltungsausgabe v2.0//DE
VERSION:2.0
METHOD:PUBLISH
BEGIN:VEVENT
DTSTART:20261223T170000Z
DTEND:20261223T180000Z
LOCATION:Shuttle\, \,
TRANSP:OPAQUE
SEQUENCE:0
UID:14045-veranstaltung@refkirchehoefe.ch
DTSTAMP:20260312T144618Z
DESCRIPTION:Der Kirchenbus fährt neu "Auf Anfrage"\nMelden Sie sich bis
  Dienstag 16.00 Uhr gerne auf die Nummer: 078 878 17 78\n\nWir freuen
  uns\, mit Ihnen Gottesdienst zu feiern.\n\n\n\n\nKontakt:
  matthias.fehr@refkirchehoefe.ch\n\nWeitere Infos:
  https://www.refkirchehoefe.ch/veranstaltung/14045
SUMMARY:Kirchenbus - "Auf Anfrage"
PRIORITY:5
X-MICROSOFT-CDO-IMPORTANCE:1
CLASS:PUBLIC
END:VEVENT
END:VCALENDAR
