BEGIN:VCALENDAR
PRODID:-//kirchenweb.ch gmbh//veranstaltungsausgabe v2.0//DE
VERSION:2.0
METHOD:PUBLISH
BEGIN:VEVENT
DTSTART:20261206T083000Z
DTEND:20261206T093000Z
LOCATION:Shuttle\, \,
TRANSP:OPAQUE
SEQUENCE:0
UID:14058-veranstaltung@refkirchehoefe.ch
DTSTAMP:20260317T134737Z
DESCRIPTION:Der Kirchenbus fährt neu "Auf Anfrage"\nMelden Sie sich bis
  Samstag 18.00 Uhr gerne auf die Nummer: 079 583 88 08\n\nWir freuen uns\,
  mit Ihnen Gottesdienst zu feiern.\n\n\n\n\nKontakt:
  matthias.fehr@refkirchehoefe.ch\n\nWeitere Infos:
  https://www.refkirchehoefe.ch/veranstaltung/14058
SUMMARY:Kirchenbus - "Auf Anfrage"
PRIORITY:5
X-MICROSOFT-CDO-IMPORTANCE:1
CLASS:PUBLIC
END:VEVENT
END:VCALENDAR
