BEGIN:VCALENDAR
PRODID:-//kirchenweb.ch gmbh//veranstaltungsausgabe v2.0//DE
VERSION:2.0
METHOD:PUBLISH
BEGIN:VEVENT
DTSTART:20260726T163000Z
DTEND:20260726T164500Z
LOCATION:Ref. Kirchgemeindehaus Pfäffikon\, \,
TRANSP:OPAQUE
SEQUENCE:0
UID:14085-veranstaltung@refkirchehoefe.ch
DTSTAMP:20260323T203238Z
DESCRIPTION:Von 18.30-18.45 Uhr findet neu direkt vor dem Gottesdienst
  unsere "gute Viertelstunde" statt. Diese "Gebets-Ecke" ist diesmal im
  Jugendraum situiert. Das Pfarrteam dankt unsern ehrenamtlichen
  Mitarbeitern für die Moderation und freut sich auf zahlreiche Besucher\,
  die gerne am gemeinsamen Gebet für unsere Kirche und ihre Anliegen
  teilnehmen! \n\nDies ganz im Sinn von Apostel Paulus und neuzeitlichen
  Influencern: \n\n"Das Erste und Wichtigste\, wozu ich ´die Gemeinde`
  auffordere\, ist das Gebet. Es ist unsere Aufgabe\, mit Bitten\, Flehen
  und Danken für alle Menschen einzutreten\, ´insbesondere` für die
  Regierenden und alle\, die eine hohe Stellung einnehmen\, damit wir
  ungestört und in Frieden ein Leben führen können\, durch das Gott in
  jeder Hinsicht geehrt wird und das in allen Belangen glaubwürdig ist. In
  dieser Weise zu beten ist gut und gefällt Gott\, unserem Retter\, denn
  er will\, dass alle Menschen gerettet werden und dass sie die Wahrheit
  erkennen." (1. Timotheus 2\,1-4)\n\n"Das Gebet ersetzt keine Tat\, aber
  das Gebet ist eine Tat\, die durch nichts ersetzt werden kann.“ (Hans
  von Keler) \n\n„Viele kleine Leute\, die an vielen kleinen Orten viele
  kleine Dinge tun\, können das Gesicht der Welt verändern.“
  (Afrikanisches Sprichwort)\n\nHinweis: Unsere "gute Viertelstunde" ist
  nicht ein Ort der Seelsorge oder der Politik\, sondern des vielfältigen
  Gebetes\, das wir gemeinsam und neu entdecken werden. Falls Sie einen
  Segen bzw.  ein Gespräch wünschen\, dürfen Sie sich gerne z.B. nach
  dem Gottesdienst an eine unserer drei Pfarrpersonen wenden\, die gerne
  dafür ein mögliches Zeitfenster suchen.\n\nKontakt:
  rahel.eggenberger@refkirchehoefe.ch\n\nWeitere Infos:
  https://www.refkirchehoefe.ch/veranstaltung/14085
SUMMARY:Eine "gute Viertelstunde" - unser Gebet vor dem Gottesdienst
PRIORITY:5
X-MICROSOFT-CDO-IMPORTANCE:1
CLASS:PUBLIC
END:VEVENT
END:VCALENDAR
