BEGIN:VCALENDAR
PRODID:-//kirchenweb.ch gmbh//veranstaltungsausgabe v2.0//DE
VERSION:2.0
METHOD:PUBLISH
BEGIN:VEVENT
DTSTART:20260427T170000Z
DTEND:20260427T193000Z
LOCATION:Ref. Kirche Wollerau in Wilen\, \,
TRANSP:OPAQUE
SEQUENCE:0
UID:14182-veranstaltung@refkirchehoefe.ch
DTSTAMP:20260414T062916Z
DESCRIPTION:Montagabends lädt der Projektchor zu seinen Chorproben ein.
  Wir beginnen fakultativ mit Stimmbildung um 19.00 Uhr. Um 19h30 ist dann
  die eigentliche Chorprobe die bis 21.30 Uhr dauert.\nIn diesem Projekt
  beschäftigen wir uns mit drei Kantaten von J.S.Bach: BWV 45\, 109 und
  192.\n\nKontakt: Alexander Seidel\n\nWeitere Infos:
  https://www.refkirchehoefe.ch/veranstaltung/14182
SUMMARY:Projektchor Höfe - Chorprobe - J.S.Bach Kantaten
PRIORITY:5
X-MICROSOFT-CDO-IMPORTANCE:1
CLASS:PUBLIC
END:VEVENT
END:VCALENDAR
