BEGIN:VCALENDAR
PRODID:-//kirchenweb.ch gmbh//veranstaltungsausgabe v2.0//DE
VERSION:2.0
METHOD:PUBLISH
BEGIN:VEVENT
DTSTART:20270519T173000Z
DTEND:20270519T203000Z
LOCATION:Ref. Kirchgemeindehaus Pfäffikon\, Hofstrasse 2a\, 8808
  Pfäffikon
TRANSP:OPAQUE
SEQUENCE:0
UID:7461-veranstaltung@refkirchehoefe.ch
DTSTAMP:20260113T194854Z
DESCRIPTION:Alle Kirchgemeindebürgerinnen und Kirchgemeindebürger sind
  herzlich eingeladen. Stimmberechtigt sind alle Kirchgemeindemitglieder ab
  dem 16. Altersjahr.\n\nKontakt: Nathalie Müller\n\nWeitere Infos:
  https://www.refkirchehoefe.ch/veranstaltung/7461
SUMMARY:Ordentliche Kirchgemeindeversammlung
PRIORITY:5
X-MICROSOFT-CDO-IMPORTANCE:1
CLASS:PUBLIC
END:VEVENT
END:VCALENDAR
